BEGIN:VCALENDAR
VERSION:2.0
PRODID:-//demosphere.net//NONSGML kigkonsult.se iCalcreator 2.22.1//
METHOD:REQUEST
X-WR-TIMEZONE:Europe/Athens
BEGIN:VEVENT
UID:https://mail.kinimatorama.net/event/184329
DTSTAMP:20251204T180000Z
DESCRIPTION:περισσότερες πληροφορίες: https://mail.kinimatorama.net/event/1
 84329 
DTSTART:20251204T180000Z
DTEND:20251204T190000Z
GEO:+39.620611;+19.91523
LOCATION:Κέρκυρα\, \nκατάληψη Αντινομία \nπαλιό ψυχιατρείο
SUMMARY:Προβολή: 'Δεκέμβρης 2008: Μόνος σου θα πας πιο γρήγορα\, μαζί θα πά
 με πιο μακριά'
URL:https://mail.kinimatorama.net/event/184329
END:VEVENT
END:VCALENDAR
