BEGIN:VCALENDAR
VERSION:2.0
PRODID:-//demosphere.net//NONSGML kigkonsult.se iCalcreator 2.22.1//
METHOD:REQUEST
X-WR-TIMEZONE:Europe/Athens
BEGIN:VEVENT
UID:https://mail.kinimatorama.net/event/185073
DTSTAMP:20251221T100000Z
DESCRIPTION:περισσότερες πληροφορίες: https://mail.kinimatorama.net/event/1
 85073 
DTSTART:20251221T100000Z
DTEND:20251221T110000Z
GEO:+37.975682;+23.734846
LOCATION:Αθήνα\, \nΠλατεία Συντάγματος (Σύνταγμα)
SUMMARY:Νίκη στους Αγρότες! Πανελλαδική Κινητοποίηση
URL:https://mail.kinimatorama.net/event/185073
END:VEVENT
END:VCALENDAR
