BEGIN:VCALENDAR
VERSION:2.0
PRODID:-//demosphere.net//NONSGML kigkonsult.se iCalcreator 2.22.1//
METHOD:REQUEST
X-WR-TIMEZONE:Europe/Athens
BEGIN:VEVENT
UID:https://mail.kinimatorama.net/event/185814
DTSTAMP:20260121T100000Z
DESCRIPTION:περισσότερες πληροφορίες: https://mail.kinimatorama.net/event/1
 85814 
DTSTART:20260121T100000Z
DTEND:20260121T110000Z
GEO:+37.975682;+23.734846
LOCATION:Αθήνα\, \nΠλατεία Συντάγματος (Σύνταγμα)
SUMMARY:(Νέα ώρα/τοποθεσία) Συγκέντρωση για την εκδίκαση των πειθαρχικών στ
 ην Τρίπολη
URL:https://mail.kinimatorama.net/event/185814
END:VEVENT
END:VCALENDAR
