BEGIN:VCALENDAR
VERSION:2.0
PRODID:-//demosphere.net//NONSGML kigkonsult.se iCalcreator 2.22.1//
METHOD:REQUEST
X-WR-TIMEZONE:Europe/Athens
BEGIN:VEVENT
UID:https://mail.kinimatorama.net/event/186159
DTSTAMP:20260129T173000Z
DESCRIPTION:περισσότερες πληροφορίες: https://mail.kinimatorama.net/event/1
 86159 
DTSTART:20260129T173000Z
DTEND:20260129T183000Z
GEO:+39.620611;+19.91523
LOCATION:Κέρκυρα\, \nκατάληψη Αντινομία \nπαλιό ψυχιατρείο
SUMMARY:Προβολή ντοκιμαντέρ: 'Οι αναρχικοί της δεκαετίας του 1970'
URL:https://mail.kinimatorama.net/event/186159
END:VEVENT
END:VCALENDAR
