BEGIN:VCALENDAR
VERSION:2.0
PRODID:-//demosphere.net//NONSGML kigkonsult.se iCalcreator 2.22.1//
METHOD:REQUEST
X-WR-TIMEZONE:Europe/Athens
BEGIN:VEVENT
UID:https://mail.kinimatorama.net/event/186446
DTSTAMP:20260204T183000Z
DESCRIPTION:περισσότερες πληροφορίες: https://mail.kinimatorama.net/event/1
 86446 
DTSTART:20260204T183000Z
DTEND:20260204T193000Z
GEO:+38.00051;+23.721385
LOCATION:Αθήνα\, \nγραφεία Σωματείων Βάσης \nΣήστου 7-9 \n3' Μετρό-ΗΣΑΠ Αττ
 ική \nΛεωφορεία 711\, 719\, 720\, Α10\, Α11\, Β10\, Β11\, Β12\, Γ12
SUMMARY:Επόμενη συνέλευση ΣΒΕΜΚΟ (στο νέο χώρο μας!)
URL:https://mail.kinimatorama.net/event/186446
END:VEVENT
END:VCALENDAR
