BEGIN:VCALENDAR
VERSION:2.0
PRODID:-//demosphere.net//NONSGML kigkonsult.se iCalcreator 2.22.1//
METHOD:REQUEST
X-WR-TIMEZONE:Europe/Athens
BEGIN:VEVENT
UID:https://mail.kinimatorama.net/event/186520
DTSTAMP:20260206T190000Z
DESCRIPTION:περισσότερες πληροφορίες: https://mail.kinimatorama.net/event/1
 86520 
DTSTART:20260206T190000Z
DTEND:20260206T200000Z
GEO:+39.620611;+19.91523
LOCATION:Κέρκυρα\, \nκατάληψη Αντινομία \nπαλιό ψυχιατρείο
SUMMARY:Πανκ Ροκ Μπαρ για την οικονομική ενίσχυση της κατάληψης Αντινομία 
URL:https://mail.kinimatorama.net/event/186520
END:VEVENT
END:VCALENDAR
