BEGIN:VCALENDAR
VERSION:2.0
PRODID:-//demosphere.net//NONSGML kigkonsult.se iCalcreator 2.22.1//
METHOD:REQUEST
X-WR-TIMEZONE:Europe/Athens
BEGIN:VEVENT
UID:https://mail.kinimatorama.net/event/186582
DTSTAMP:20260206T180000Z
DESCRIPTION:περισσότερες πληροφορίες: https://mail.kinimatorama.net/event/1
 86582 
DTSTART:20260206T180000Z
DTEND:20260206T190000Z
GEO:+40.634578;+22.951302
LOCATION:Θεσσαλονίκη\, \nInfolibre \nΑυτοδιαχειριζόμενος χώρος για την ανεξ
 άρτητη ενημέρωση και επικοινωνία \nΥπουργού Φιλίππου Δραγούμη 4 \n(περιοχή
  Ροτόντας)
SUMMARY:Εκδήλωση στο Infolibre: Πρόσφατες εικόνες από Κούβα
URL:https://mail.kinimatorama.net/event/186582
END:VEVENT
END:VCALENDAR
