BEGIN:VCALENDAR
VERSION:2.0
PRODID:-//demosphere.net//NONSGML kigkonsult.se iCalcreator 2.22.1//
METHOD:REQUEST
X-WR-TIMEZONE:Europe/Athens
BEGIN:VEVENT
UID:https://mail.kinimatorama.net/event/186590
DTSTAMP:20260207T110000Z
DESCRIPTION:περισσότερες πληροφορίες: https://mail.kinimatorama.net/event/1
 86590 
DTSTART:20260207T110000Z
DTEND:20260207T120000Z
GEO:+37.990723;+23.735403
LOCATION:Αθήνα\, \nin situ \nΑντιεξουσιαστικός Κομμουνιστικός Χώρος \nΣπύρο
 υ Τρικούπη 71 \nΕξάρχεια \n(Πλησίον σταθμού ΒΙΚΤΩΡΙΑ)
SUMMARY:Μεσημεριανό άνοιγμα του χώρου για καφέ και κουβέντα
URL:https://mail.kinimatorama.net/event/186590
END:VEVENT
END:VCALENDAR
