BEGIN:VCALENDAR
VERSION:2.0
PRODID:-//demosphere.net//NONSGML kigkonsult.se iCalcreator 2.22.1//
METHOD:REQUEST
X-WR-TIMEZONE:Europe/Athens
BEGIN:VEVENT
UID:https://mail.kinimatorama.net/event/186841
DTSTAMP:20260215T140000Z
DESCRIPTION:περισσότερες πληροφορίες: https://mail.kinimatorama.net/event/1
 86841 
DTSTART:20260215T140000Z
DTEND:20260215T150000Z
GEO:+40.653653;+22.939807
LOCATION:Θεσσαλονίκη\, \nΣτέκι ΑΠΑΝ - Λαϊκής Βιβλιοθήκης \nΜουδανιών 18 \nΝ
 εάπολη
SUMMARY:Ανοιχτή Αντιρατσιστική Συνέλευση Μαχαλάς\, Open Anti-Racist Assembl
 y Mahallas
URL:https://mail.kinimatorama.net/event/186841
END:VEVENT
END:VCALENDAR
