BEGIN:VCALENDAR
VERSION:2.0
PRODID:-//demosphere.net//NONSGML kigkonsult.se iCalcreator 2.22.1//
METHOD:REQUEST
X-WR-TIMEZONE:Europe/Athens
BEGIN:VEVENT
UID:https://mail.kinimatorama.net/event/187023
DTSTAMP:20260220T190000Z
DESCRIPTION:περισσότερες πληροφορίες: https://mail.kinimatorama.net/event/1
 87023 
DTSTART:20260220T190000Z
DTEND:20260220T200000Z
GEO:+37.990723;+23.735403
LOCATION:Αθήνα\, \nin situ \nΑντιεξουσιαστικός Κομμουνιστικός Χώρος \nΣπύρο
 υ Τρικούπη 71 \nΕξάρχεια \n(Πλησίον σταθμού ΒΙΚΤΩΡΙΑ)
SUMMARY:Bar new wave\, punk & experimental
URL:https://mail.kinimatorama.net/event/187023
END:VEVENT
END:VCALENDAR
