BEGIN:VCALENDAR
VERSION:2.0
PRODID:-//demosphere.net//NONSGML kigkonsult.se iCalcreator 2.22.1//
METHOD:REQUEST
X-WR-TIMEZONE:Europe/Athens
BEGIN:VEVENT
UID:https://mail.kinimatorama.net/event/187047
DTSTAMP:20260426T173000Z
DESCRIPTION:περισσότερες πληροφορίες: https://mail.kinimatorama.net/event/1
 87047 
DTSTART:20260426T173000Z
DTEND:20260426T183000Z
GEO:+37.986654;+23.735613
LOCATION:Αθήνα\, \nΚ*ΒΟΞ - Κατειλλημένο Κοινωνικό Κέντρο ΒΟΞ \nΑραχώβης & Θ
 εμιστοκλέους \n(πλατεία Εξαρχείων)
SUMMARY:Live - 14 Χρόνια Κ*ΒΟΞ
URL:https://mail.kinimatorama.net/event/187047
END:VEVENT
END:VCALENDAR
