BEGIN:VCALENDAR
VERSION:2.0
PRODID:-//demosphere.net//NONSGML kigkonsult.se iCalcreator 2.22.1//
METHOD:REQUEST
X-WR-TIMEZONE:Europe/Athens
BEGIN:VEVENT
UID:https://mail.kinimatorama.net/event/187264
DTSTAMP:20260225T170000Z
DESCRIPTION:περισσότερες πληροφορίες: https://mail.kinimatorama.net/event/1
 87264 
DTSTART:20260225T170000Z
DTEND:20260225T180000Z
GEO:+39.620611;+19.91523
LOCATION:Κέρκυρα\, \nκατάληψη Αντινομία \nπαλιό ψυχιατρείο
SUMMARY:Παρουσίαση ΑΤΖΕΝΤΑΣ 2026 με τη συμμετοχή συντρόφου από το Ταμείο Αλ
 ληλεγγύης
URL:https://mail.kinimatorama.net/event/187264
END:VEVENT
END:VCALENDAR
