BEGIN:VCALENDAR
VERSION:2.0
PRODID:-//demosphere.net//NONSGML kigkonsult.se iCalcreator 2.22.1//
METHOD:REQUEST
X-WR-TIMEZONE:Europe/Athens
BEGIN:VEVENT
UID:https://mail.kinimatorama.net/event/187359
DTSTAMP:20260227T183000Z
DESCRIPTION:περισσότερες πληροφορίες: https://mail.kinimatorama.net/event/1
 87359 
DTSTART:20260227T183000Z
DTEND:20260227T193000Z
GEO:+40.634578;+22.951302
LOCATION:Θεσσαλονίκη\, \nInfolibre \nΑυτοδιαχειριζόμενος χώρος για την ανεξ
 άρτητη ενημέρωση και επικοινωνία \nΥπουργού Φιλίππου Δραγούμη 4 \n(περιοχή
  Ροτόντας)
SUMMARY:Προβολή ταινίας: The Navigators (του Ken Loach)
URL:https://mail.kinimatorama.net/event/187359
END:VEVENT
END:VCALENDAR
