BEGIN:VCALENDAR
VERSION:2.0
PRODID:-//demosphere.net//NONSGML kigkonsult.se iCalcreator 2.22.1//
METHOD:REQUEST
X-WR-TIMEZONE:Europe/Athens
BEGIN:VEVENT
UID:https://mail.kinimatorama.net/event/187397
DTSTAMP:20260618T180000Z
DESCRIPTION:περισσότερες πληροφορίες: https://mail.kinimatorama.net/event/1
 87397 
DTSTART:20260618T180000Z
DTEND:20260618T190000Z
GEO:+40.622345;+22.932059
LOCATION:Θεσσαλονίκη\, \nάγνωστη τοποθεσία (Θεσσαλονίκη)
SUMMARY:punk gig
URL:https://mail.kinimatorama.net/event/187397
END:VEVENT
END:VCALENDAR
