BEGIN:VCALENDAR
VERSION:2.0
PRODID:-//demosphere.net//NONSGML kigkonsult.se iCalcreator 2.22.1//
METHOD:REQUEST
X-WR-TIMEZONE:Europe/Athens
BEGIN:VEVENT
UID:https://mail.kinimatorama.net/event/187523
DTSTAMP:20260306T180000Z
DESCRIPTION:περισσότερες πληροφορίες: https://mail.kinimatorama.net/event/1
 87523 
DTSTART:20260306T180000Z
DTEND:20260306T190000Z
GEO:+37.990723;+23.735403
LOCATION:Αθήνα\, \nin situ \nΑντιεξουσιαστικός Κομμουνιστικός Χώρος \nΣπύρο
 υ Τρικούπη 71 \nΕξάρχεια \n(Πλησίον σταθμού ΒΙΚΤΩΡΙΑ)
SUMMARY:Παρουσίαση του βιβλίου: Ζαν Μαλακέ\, Κείμενα και Διηγήματα
URL:https://mail.kinimatorama.net/event/187523
END:VEVENT
END:VCALENDAR
