BEGIN:VCALENDAR
VERSION:2.0
PRODID:-//demosphere.net//NONSGML kigkonsult.se iCalcreator 2.22.1//
METHOD:REQUEST
X-WR-TIMEZONE:Europe/Athens
BEGIN:VEVENT
UID:https://mail.kinimatorama.net/event/187563
DTSTAMP:20260319T160000Z
DESCRIPTION:περισσότερες πληροφορίες: https://mail.kinimatorama.net/event/1
 87563 
DTSTART:20260319T160000Z
DTEND:20260319T170000Z
GEO:+38.00051;+23.721385
LOCATION:Αθήνα\, \nγραφεία Σωματείων Βάσης \nΣήστου 7-9 \n3' Μετρό-ΗΣΑΠ Αττ
 ική \nΛεωφορεία 711\, 719\, 720\, Α10\, Α11\, Β10\, Β11\, Β12\, Γ12
SUMMARY:Ανοιχτή συνέλευση του Σωματείου Βάσης Ενοικιαστών Αθήνας
URL:https://mail.kinimatorama.net/event/187563
END:VEVENT
END:VCALENDAR
