BEGIN:VCALENDAR
VERSION:2.0
PRODID:-//demosphere.net//NONSGML kigkonsult.se iCalcreator 2.22.1//
METHOD:REQUEST
X-WR-TIMEZONE:Europe/Athens
BEGIN:VEVENT
UID:https://mail.kinimatorama.net/event/187934
DTSTAMP:20260606T160000Z
DESCRIPTION:περισσότερες πληροφορίες: https://mail.kinimatorama.net/event/1
 87934 
DTSTART:20260606T160000Z
DTEND:20260606T170000Z
GEO:+37.855033;+23.648779
LOCATION:Αθήνα\, \nάγνωστη τοποθεσία (Αθήνα)
SUMMARY:10 χρονια Αλανα!!!!!
URL:https://mail.kinimatorama.net/event/187934
END:VEVENT
END:VCALENDAR
