BEGIN:VCALENDAR
VERSION:2.0
PRODID:-//demosphere.net//NONSGML kigkonsult.se iCalcreator 2.22.1//
METHOD:REQUEST
X-WR-TIMEZONE:Europe/Athens
BEGIN:VEVENT
UID:https://mail.kinimatorama.net/event/188036
DTSTAMP:20260613T180000Z
DESCRIPTION:περισσότερες πληροφορίες: https://mail.kinimatorama.net/event/1
 88036 
DTSTART:20260613T180000Z
DTEND:20260613T190000Z
GEO:+40.639239;+22.934743
LOCATION:Θεσσαλονίκη\, \nαυτοδιαχειριζόμενος χώρος Σημείο Μηδέν \nΜοσκώφ 12
SUMMARY:diy gig
URL:https://mail.kinimatorama.net/event/188036
END:VEVENT
END:VCALENDAR
