BEGIN:VCALENDAR
VERSION:2.0
PRODID:-//demosphere.net//NONSGML kigkonsult.se iCalcreator 2.22.1//
METHOD:REQUEST
X-WR-TIMEZONE:Europe/Athens
BEGIN:VEVENT
UID:https://mail.kinimatorama.net/event/188526
DTSTAMP:20260319T183000Z
DESCRIPTION:περισσότερες πληροφορίες: https://mail.kinimatorama.net/event/1
 88526 
DTSTART:20260319T183000Z
DTEND:20260319T193000Z
GEO:+37.855033;+23.648779
LOCATION:Αθήνα\, \nάγνωστη τοποθεσία (Αθήνα)
SUMMARY:Διαδικτυακή Κλήση με την Κοινότητα Κατειλημμένων Προσφυγικών
URL:https://mail.kinimatorama.net/event/188526
END:VEVENT
END:VCALENDAR
