BEGIN:VCALENDAR
VERSION:2.0
PRODID:-//demosphere.net//NONSGML kigkonsult.se iCalcreator 2.22.1//
METHOD:REQUEST
X-WR-TIMEZONE:Europe/Athens
BEGIN:VEVENT
UID:https://mail.kinimatorama.net/event/188693
DTSTAMP:20260620T143000Z
DESCRIPTION:περισσότερες πληροφορίες: https://mail.kinimatorama.net/event/1
 88693 
DTSTART:20260620T143000Z
DTEND:20260620T153000Z
GEO:+39.669989;+20.849001
LOCATION:Ιωάννινα\, \nΆλσος οδού Βαλαωρίτου \n(πλατεία Ζαλόγγου)
SUMMARY:10ο Ελευθεριακό Φεστιβάλ Βιβλίου Ιωαννίνων
URL:https://mail.kinimatorama.net/event/188693
END:VEVENT
END:VCALENDAR
