BEGIN:VCALENDAR
VERSION:2.0
PRODID:-//demosphere.net//NONSGML kigkonsult.se iCalcreator 2.22.1//
METHOD:REQUEST
X-WR-TIMEZONE:Europe/Athens
BEGIN:VEVENT
UID:https://mail.kinimatorama.net/event/188697
DTSTAMP:20260425T180000Z
DESCRIPTION:περισσότερες πληροφορίες: https://mail.kinimatorama.net/event/1
 88697 
DTSTART:20260425T180000Z
DTEND:20260425T190000Z
GEO:+37.989867;+23.735633
LOCATION:Αθήνα\, \nΥπόγα Κ94 \nΚαλλιδρομίου 94 \nΕξάρχεια
SUMMARY:D.I.Y. LIVE:Karoshi x Luba Luft \, So Uzd
URL:https://mail.kinimatorama.net/event/188697
END:VEVENT
END:VCALENDAR
