BEGIN:VCALENDAR
VERSION:2.0
PRODID:-//demosphere.net//NONSGML kigkonsult.se iCalcreator 2.22.1//
METHOD:REQUEST
X-WR-TIMEZONE:Europe/Athens
BEGIN:VEVENT
UID:https://mail.kinimatorama.net/event/188835
DTSTAMP:20260515T003300Z
DESCRIPTION:περισσότερες πληροφορίες: https://mail.kinimatorama.net/event/1
 88835 
DTSTART;VALUE=DATE:20260515
GEO:+38.243607;+21.73548
LOCATION:Πάτρα\, \nΠαντάνασσα
SUMMARY:10o φεστιβαλ αναρχικου και ανατρεπτικου βιβλιου
URL:https://mail.kinimatorama.net/event/188835
END:VEVENT
END:VCALENDAR
