BEGIN:VCALENDAR
VERSION:2.0
PRODID:-//demosphere.net//NONSGML kigkonsult.se iCalcreator 2.22.1//
METHOD:REQUEST
X-WR-TIMEZONE:Europe/Athens
BEGIN:VEVENT
UID:https://mail.kinimatorama.net/event/188877
DTSTAMP:20260424T093000Z
DESCRIPTION:περισσότερες πληροφορίες: https://mail.kinimatorama.net/event/1
 88877 
DTSTART:20260424T093000Z
DTEND:20260424T103000Z
GEO:+37.977748;+23.78374
LOCATION:Ζωγράφου\, \nκεντρική πλατεία Πολυτεχνειούπολης ΕΜΠ \n[λεωφορεία 6
 08\, 230 (8Η Ζωγράφου και 10' περπάτημα) και 242 (στάση Θυρωρείο) από μετρ
 ό Κατεχάκη]
SUMMARY:Αντιπολεμικό Διήμερο στο ΕΜΠ - Πορεία
URL:https://mail.kinimatorama.net/event/188877
END:VEVENT
END:VCALENDAR
