BEGIN:VCALENDAR
VERSION:2.0
PRODID:-//demosphere.net//NONSGML kigkonsult.se iCalcreator 2.22.1//
METHOD:REQUEST
X-WR-TIMEZONE:Europe/Athens
BEGIN:VEVENT
UID:https://mail.kinimatorama.net/event/188925
DTSTAMP:20260613T140000Z
DESCRIPTION:περισσότερες πληροφορίες: https://mail.kinimatorama.net/event/1
 88925 
DTSTART:20260613T140000Z
DTEND:20260613T150000Z
GEO:+39.664199;+20.8541
LOCATION:Ιωάννινα\, \nΑυτοδιαχειριζόμενος Κοινωνικός Χώρος Ιωαννίνων \n( ΑΚ
 ΟΙΧΙ ) \nΠλατεία Νεομάρτυρος Ιωάννη 5 \n(κάτω από το δημοτικό ωδείο)
SUMMARY:16ο Ντάλα Ήλιος\, στον ΑΚΟΙΧΙ
URL:https://mail.kinimatorama.net/event/188925
END:VEVENT
END:VCALENDAR
