BEGIN:VCALENDAR
VERSION:2.0
PRODID:-//demosphere.net//NONSGML kigkonsult.se iCalcreator 2.22.1//
METHOD:REQUEST
X-WR-TIMEZONE:Europe/Athens
BEGIN:VEVENT
UID:https://mail.kinimatorama.net/event/189020
DTSTAMP:20260509T140000Z
DESCRIPTION:περισσότερες πληροφορίες: https://mail.kinimatorama.net/event/1
 89020 
DTSTART:20260509T140000Z
DTEND:20260509T150000Z
GEO:+35.338647;+25.128502
LOCATION:Ηράκλειο\, \nDA \nΑυτοδιαχειριζόμενος Κοινωνικός Χώρος \nΝτεντιδάκ
 ηδων 15 \nΚαμαράκι
SUMMARY:Ανοιχτές Συνελεύσεις για τη διοργάνωση του Αυτοοργανωμένου Pride Ηρ
 ακλείου
URL:https://mail.kinimatorama.net/event/189020
END:VEVENT
END:VCALENDAR
