BEGIN:VCALENDAR
VERSION:2.0
PRODID:-//demosphere.net//NONSGML kigkonsult.se iCalcreator 2.22.1//
METHOD:REQUEST
X-WR-TIMEZONE:Europe/Athens
BEGIN:VEVENT
UID:https://mail.kinimatorama.net/event/189036
DTSTAMP:20260428T180000Z
DESCRIPTION:περισσότερες πληροφορίες: https://mail.kinimatorama.net/event/1
 89036 
DTSTART:20260428T180000Z
DTEND:20260428T190000Z
GEO:+37.979198;+23.723922
LOCATION:Αθήνα\, \nΕλεύθερο Αυτοδιαχειριζόμενο Θέατρο Εμπρός \nΡήγα Παλαμήδ
 ου 2\, Ψυρρή \n(πλησίον σταθμού ΜΟΝΑΣΤΗΡΑΚΙ)
SUMMARY:Παράσταση: Ο φάρος
URL:https://mail.kinimatorama.net/event/189036
END:VEVENT
END:VCALENDAR
