BEGIN:VCALENDAR
VERSION:2.0
PRODID:-//demosphere.net//NONSGML kigkonsult.se iCalcreator 2.22.1//
METHOD:REQUEST
X-WR-TIMEZONE:Europe/Athens
BEGIN:VEVENT
UID:https://mail.kinimatorama.net/event/189052
DTSTAMP:20260424T160000Z
DESCRIPTION:περισσότερες πληροφορίες: https://mail.kinimatorama.net/event/1
 89052 
DTSTART:20260424T160000Z
DTEND:20260424T170000Z
GEO:+38.243488;+21.730094
LOCATION:Πάτρα\, \nΑυτοδιαχειριζόμενος χώρος Ανατόπια \nΣαχτούρη 34-38 και 
 Ρήγα Φεραίου
SUMMARY:Άνοιγμα αυτοδιαχειριζόμενου χώρου Ανατόπια 
URL:https://mail.kinimatorama.net/event/189052
END:VEVENT
END:VCALENDAR
