BEGIN:VCALENDAR
VERSION:2.0
PRODID:-//demosphere.net//NONSGML kigkonsult.se iCalcreator 2.22.1//
METHOD:REQUEST
X-WR-TIMEZONE:Europe/Athens
BEGIN:VEVENT
UID:https://mail.kinimatorama.net/event/189088
DTSTAMP:20260429T160000Z
DESCRIPTION:περισσότερες πληροφορίες: https://mail.kinimatorama.net/event/1
 89088 
DTSTART:20260429T160000Z
DTEND:20260429T170000Z
GEO:+40.6391;+22.940668
LOCATION:Θεσσαλονίκη\, \nΚοινωνικό Κέντρο Ovradera \nΕπισκόπου Αμβροσίου 14
  \nπεριοχή Αντιγονιδών
SUMMARY:Ανοιχτή συνέλευση gizmolab
URL:https://mail.kinimatorama.net/event/189088
END:VEVENT
END:VCALENDAR
