BEGIN:VCALENDAR
VERSION:2.0
PRODID:-//demosphere.net//NONSGML kigkonsult.se iCalcreator 2.22.1//
METHOD:REQUEST
X-WR-TIMEZONE:Europe/Athens
BEGIN:VEVENT
UID:https://mail.kinimatorama.net/event/189102
DTSTAMP:20260606T073000Z
DESCRIPTION:περισσότερες πληροφορίες: https://mail.kinimatorama.net/event/1
 89102 
DTSTART:20260606T073000Z
DTEND:20260606T083000Z
GEO:+37.988214;+23.738987
LOCATION:Αθήνα\, \nΛόφος Στρέφη \nΕξάρχεια
SUMMARY:Φεστιβάλ Στρεφη - Κατοικώντας τον λόφο
URL:https://mail.kinimatorama.net/event/189102
END:VEVENT
END:VCALENDAR
