BEGIN:VCALENDAR
VERSION:2.0
PRODID:-//demosphere.net//NONSGML kigkonsult.se iCalcreator 2.22.1//
METHOD:REQUEST
X-WR-TIMEZONE:Europe/Athens
BEGIN:VEVENT
UID:https://mail.kinimatorama.net/event/189137
DTSTAMP:20260621T140000Z
DESCRIPTION:περισσότερες πληροφορίες: https://mail.kinimatorama.net/event/1
 89137 
DTSTART:20260621T140000Z
DTEND:20260621T150000Z
GEO:+40.622345;+22.932059
LOCATION:Θεσσαλονίκη\, \nάγνωστη τοποθεσία (Θεσσαλονίκη)
SUMMARY:Διήμερο οικονομικής ενίσχυσης (Εκδήλωση/συζήτηση)
URL:https://mail.kinimatorama.net/event/189137
END:VEVENT
END:VCALENDAR
