BEGIN:VCALENDAR
VERSION:2.0
PRODID:-//demosphere.net//NONSGML kigkonsult.se iCalcreator 2.22.1//
METHOD:REQUEST
X-WR-TIMEZONE:Europe/Athens
BEGIN:VEVENT
UID:https://mail.kinimatorama.net/event/189170
DTSTAMP:20260617T003300Z
DESCRIPTION:περισσότερες πληροφορίες: https://mail.kinimatorama.net/event/1
 89170 
DTSTART;VALUE=DATE:20260617
GEO:+40.622345;+22.932059
LOCATION:Θεσσαλονίκη\, \nάγνωστη τοποθεσία (Θεσσαλονίκη)
SUMMARY:Ελευθεριακό Φεστιβάλ Βιβλίου
URL:https://mail.kinimatorama.net/event/189170
END:VEVENT
END:VCALENDAR
