BEGIN:VCALENDAR
VERSION:2.0
PRODID:-//demosphere.net//NONSGML kigkonsult.se iCalcreator 2.22.1//
METHOD:REQUEST
X-WR-TIMEZONE:Europe/Athens
BEGIN:VEVENT
UID:https://mail.kinimatorama.net/event/189206
DTSTAMP:20260425T180000Z
DESCRIPTION:περισσότερες πληροφορίες: https://mail.kinimatorama.net/event/1
 89206 
DTSTART:20260425T180000Z
DTEND:20260425T190000Z
GEO:+37.987578;+23.735096
LOCATION:Αθήνα\, \nΚοινωνικό κέντρο Τσαμαδού 15 \nΤσαμαδού 15 \nΕξάρχεια
SUMMARY:Bar Οικονομικής Ενίσχυσης Ομάδας Αλληλεγγύης Αστέγων
URL:https://mail.kinimatorama.net/event/189206
END:VEVENT
END:VCALENDAR
