BEGIN:VCALENDAR
VERSION:2.0
PRODID:-//demosphere.net//NONSGML kigkonsult.se iCalcreator 2.22.1//
METHOD:REQUEST
X-WR-TIMEZONE:Europe/Athens
BEGIN:VEVENT
UID:https://mail.kinimatorama.net/event/189274
DTSTAMP:20260626T003300Z
DESCRIPTION:περισσότερες πληροφορίες: https://mail.kinimatorama.net/event/1
 89274 
DTSTART;VALUE=DATE:20260626
GEO:+40.622345;+22.932059
LOCATION:Θεσσαλονίκη\, \nάγνωστη τοποθεσία (Θεσσαλονίκη)
SUMMARY:Διήμερο οικ. ενίσχυσης
URL:https://mail.kinimatorama.net/event/189274
END:VEVENT
END:VCALENDAR
