BEGIN:VCALENDAR
VERSION:2.0
PRODID:-//demosphere.net//NONSGML kigkonsult.se iCalcreator 2.22.1//
METHOD:REQUEST
X-WR-TIMEZONE:Europe/Athens
BEGIN:VEVENT
UID:https://mail.kinimatorama.net/event/189333
DTSTAMP:20260509T160000Z
DESCRIPTION:περισσότερες πληροφορίες: https://mail.kinimatorama.net/event/1
 89333 
DTSTART:20260509T160000Z
DTEND:20260509T170000Z
GEO:+40.616656;+22.964462
LOCATION:Θεσσαλονίκη\, \nΚατάληψη Φάμπρικα Υφανέτ \nΟμήρου και Περδίκα\, Κά
 τω Τούμπα \nλεωφορεία από κέντρο: \n12 (στάση Υφανέτ) \n2\,58 (Θεαγένειο)
SUMMARY:Μεταλλαγές της εξουσίας\, επιχειρήσεις του κεφαλαίου & πολιτικές τω
 ν υποδομών
URL:https://mail.kinimatorama.net/event/189333
END:VEVENT
END:VCALENDAR
