BEGIN:VCALENDAR
VERSION:2.0
PRODID:-//demosphere.net//NONSGML kigkonsult.se iCalcreator 2.22.1//
METHOD:REQUEST
X-WR-TIMEZONE:Europe/Athens
BEGIN:VEVENT
UID:https://mail.kinimatorama.net/event/189336
DTSTAMP:20260424T150000Z
DESCRIPTION:περισσότερες πληροφορίες: https://mail.kinimatorama.net/event/1
 89336 
DTSTART:20260424T150000Z
DTEND:20260424T160000Z
GEO:+37.957201;+23.700589
LOCATION:Καλλιθέα\, \nΠλατεία Κύπρου (Καλλιθέα) \nΣιβιτανίδου & Λασκαρίδου 
 \n(5' περπάτημα από σταθμό ΗΣΑΠ Καλλιθέας)
SUMMARY:Φεμινιστική μικροφωνική συγκέντρωση
URL:https://mail.kinimatorama.net/event/189336
END:VEVENT
END:VCALENDAR
