BEGIN:VCALENDAR
VERSION:2.0
PRODID:-//demosphere.net//NONSGML kigkonsult.se iCalcreator 2.22.1//
METHOD:REQUEST
X-WR-TIMEZONE:Europe/Athens
BEGIN:VEVENT
UID:https://mail.kinimatorama.net/event/189365
DTSTAMP:20260414T160000Z
DESCRIPTION:περισσότερες πληροφορίες: https://mail.kinimatorama.net/event/1
 89365 
DTSTART:20260414T160000Z
DTEND:20260414T170000Z
GEO:+40.653653;+22.939807
LOCATION:Θεσσαλονίκη\, \nΣτέκι ΑΠΑΝ - Λαϊκής Βιβλιοθήκης \nΜουδανιών 18 \nΝ
 εάπολη
SUMMARY:Παρουσίαση βιβλίου: Η Λερναία Ύδρα των Peter Linebaugh\, Marcus Red
 iker
URL:https://mail.kinimatorama.net/event/189365
END:VEVENT
END:VCALENDAR
