BEGIN:VCALENDAR
VERSION:2.0
PRODID:-//demosphere.net//NONSGML kigkonsult.se iCalcreator 2.22.1//
METHOD:REQUEST
X-WR-TIMEZONE:Europe/Athens
BEGIN:VEVENT
UID:https://mail.kinimatorama.net/event/189377
DTSTAMP:20260408T153000Z
DESCRIPTION:περισσότερες πληροφορίες: https://mail.kinimatorama.net/event/1
 89377 
DTSTART:20260408T153000Z
DTEND:20260408T163000Z
GEO:+40.634578;+22.951302
LOCATION:Θεσσαλονίκη\, \nInfolibre \nΑυτοδιαχειριζόμενος χώρος για την ανεξ
 άρτητη ενημέρωση και επικοινωνία \nΥπουργού Φιλίππου Δραγούμη 4 \n(περιοχή
  Ροτόντας)
SUMMARY:Ανοιχτή συνέλευση αλληλεγγύης στα Προσφυγικά
URL:https://mail.kinimatorama.net/event/189377
END:VEVENT
END:VCALENDAR
