BEGIN:VCALENDAR
VERSION:2.0
PRODID:-//demosphere.net//NONSGML kigkonsult.se iCalcreator 2.22.1//
METHOD:REQUEST
X-WR-TIMEZONE:Europe/Athens
BEGIN:VEVENT
UID:https://mail.kinimatorama.net/event/189402
DTSTAMP:20260425T163000Z
DESCRIPTION:περισσότερες πληροφορίες: https://mail.kinimatorama.net/event/1
 89402 
DTSTART:20260425T163000Z
DTEND:20260425T173000Z
GEO:+37.962039;+23.757913
LOCATION:Βύρωνας\, \nΚατάληψη Ανάληψη \n(πάρκο Ανάληψης) \n214(στάση 9η ΦΟΡ
 ΜΙΩΝΟΣ) \n11(24ωρο)\,203\,209\,211(στάση Αγορά 10΄περπάτημα)
SUMMARY:Punk Means Solidarity | Benefit Live For Gaza Skate Team
URL:https://mail.kinimatorama.net/event/189402
END:VEVENT
END:VCALENDAR
