BEGIN:VCALENDAR
VERSION:2.0
PRODID:-//demosphere.net//NONSGML kigkonsult.se iCalcreator 2.22.1//
METHOD:REQUEST
X-WR-TIMEZONE:Europe/Athens
BEGIN:VEVENT
UID:https://mail.kinimatorama.net/event/189424
DTSTAMP:20260411T110000Z
DESCRIPTION:περισσότερες πληροφορίες: https://mail.kinimatorama.net/event/1
 89424 
DTSTART:20260411T110000Z
DTEND:20260411T120000Z
GEO:+37.975682;+23.734846
LOCATION:Αθήνα\, \nΠλατεία Συντάγματος (Σύνταγμα)
SUMMARY:Δεν θα υπάρξει ειρήνη μέχρι την απελευθέρωση! Free Palestine\, Leba
 non GR\,ENG\,AR
URL:https://mail.kinimatorama.net/event/189424
END:VEVENT
END:VCALENDAR
