BEGIN:VCALENDAR
VERSION:2.0
PRODID:-//demosphere.net//NONSGML kigkonsult.se iCalcreator 2.22.1//
METHOD:REQUEST
X-WR-TIMEZONE:Europe/Athens
BEGIN:VEVENT
UID:https://mail.kinimatorama.net/event/189485
DTSTAMP:20260510T080000Z
DESCRIPTION:περισσότερες πληροφορίες: https://mail.kinimatorama.net/event/1
 89485 
DTSTART:20260510T080000Z
DTEND:20260510T090000Z
GEO:+40.640679;+22.944469
LOCATION:Θεσσαλονίκη\, \nΥφυπουργείο Μακεδονίας-Θράκης \n(πρ. Υπουργείο Μακ
 εδονίας-Θράκης) \nΑγίου Δημητρίου
SUMMARY:Ιστορικός περίπατος
URL:https://mail.kinimatorama.net/event/189485
END:VEVENT
END:VCALENDAR
