BEGIN:VCALENDAR
VERSION:2.0
PRODID:-//demosphere.net//NONSGML kigkonsult.se iCalcreator 2.22.1//
METHOD:REQUEST
X-WR-TIMEZONE:Europe/Athens
BEGIN:VEVENT
UID:https://mail.kinimatorama.net/event/189491
DTSTAMP:20260424T180000Z
DESCRIPTION:περισσότερες πληροφορίες: https://mail.kinimatorama.net/event/1
 89491 
DTSTART:20260424T180000Z
DTEND:20260424T190000Z
GEO:+40.618217;+22.957619
LOCATION:Θεσσαλονίκη\, \nΕλευθεριακό Στέκι Victoire \nΑγίας Τριάδος 28 & Γε
 ωργίου Κωνσταντινίδη \nΦάληρο
SUMMARY:1 χρόνος Ελευθεριακό Στέκι Victoire: Live με πολιτικά τραγούδια
URL:https://mail.kinimatorama.net/event/189491
END:VEVENT
END:VCALENDAR
