BEGIN:VCALENDAR
VERSION:2.0
PRODID:-//demosphere.net//NONSGML kigkonsult.se iCalcreator 2.22.1//
METHOD:REQUEST
X-WR-TIMEZONE:Europe/Athens
BEGIN:VEVENT
UID:https://mail.kinimatorama.net/event/189518
DTSTAMP:20260418T110000Z
DESCRIPTION:περισσότερες πληροφορίες: https://mail.kinimatorama.net/event/1
 89518 
DTSTART:20260418T110000Z
DTEND:20260418T120000Z
GEO:+37.990723;+23.735403
LOCATION:Αθήνα\, \nin situ \nΑντιεξουσιαστικός Κομμουνιστικός Χώρος \nΣπύρο
 υ Τρικούπη 71 \nΕξάρχεια \n(Πλησίον σταθμού ΒΙΚΤΩΡΙΑ)
SUMMARY:Σαββατιάτικο άνοιγμα του χώρου In Situ για καφέ και συζήτηση
URL:https://mail.kinimatorama.net/event/189518
END:VEVENT
END:VCALENDAR
