BEGIN:VCALENDAR
VERSION:2.0
PRODID:-//demosphere.net//NONSGML kigkonsult.se iCalcreator 2.22.1//
METHOD:REQUEST
X-WR-TIMEZONE:Europe/Athens
BEGIN:VEVENT
UID:https://mail.kinimatorama.net/event/189585
DTSTAMP:20260425T160000Z
DESCRIPTION:περισσότερες πληροφορίες: https://mail.kinimatorama.net/event/1
 89585 
DTSTART:20260425T160000Z
DTEND:20260425T170000Z
GEO:+40.638397;+22.946565
LOCATION:Θεσσαλονίκη\, \nΠάρκο Εργατικού Κέντρου Θεσσαλονίκης \nΑριστοτέλου
 ς με Ολύμπου
SUMMARY:Εκδήλωση: 90 χρόνια από τον ματωμένο και ηρωικό Μάη του '36 στο πάρ
 κο ΕΚΘ
URL:https://mail.kinimatorama.net/event/189585
END:VEVENT
END:VCALENDAR
