BEGIN:VCALENDAR
VERSION:2.0
PRODID:-//demosphere.net//NONSGML kigkonsult.se iCalcreator 2.22.1//
METHOD:REQUEST
X-WR-TIMEZONE:Europe/Athens
BEGIN:VEVENT
UID:https://mail.kinimatorama.net/event/189795
DTSTAMP:20260426T080000Z
DESCRIPTION:περισσότερες πληροφορίες: https://mail.kinimatorama.net/event/1
 89795 
DTSTART:20260426T080000Z
DTEND:20260426T090000Z
GEO:+38.003357;+23.735329
LOCATION:Αθήνα\, \nΚατάληψη Λέλας Καραγιάννη 37 \nΛέλας Καραγιάννη 37 & Δρο
 σοπούλου \n(πλησίον Πλατείας Αμερικής)
SUMMARY:Παιδικό παιχνίδι
URL:https://mail.kinimatorama.net/event/189795
END:VEVENT
END:VCALENDAR
