BEGIN:VCALENDAR
VERSION:2.0
PRODID:-//demosphere.net//NONSGML kigkonsult.se iCalcreator 2.22.1//
METHOD:REQUEST
X-WR-TIMEZONE:Europe/Athens
BEGIN:VEVENT
UID:https://mail.kinimatorama.net/event/189807
DTSTAMP:20260428T070000Z
DESCRIPTION:περισσότερες πληροφορίες: https://mail.kinimatorama.net/event/1
 89807 
DTSTART:20260428T070000Z
DTEND:20260428T080000Z
GEO:+40.628824;+22.946413
LOCATION:Θεσσαλονίκη\, \nΕπιθεώρηση Εργασίας Θεσσαλονίκης \nΠροξένου Κορομη
 λά 51
SUMMARY:Συγκέντρωση αλληλεγγύης στις 2 πρώην εργαζόμενες στο Rubik's
URL:https://mail.kinimatorama.net/event/189807
END:VEVENT
END:VCALENDAR
