BEGIN:VCALENDAR
VERSION:2.0
PRODID:-//demosphere.net//NONSGML kigkonsult.se iCalcreator 2.22.1//
METHOD:REQUEST
X-WR-TIMEZONE:Europe/Athens
BEGIN:VEVENT
UID:https://mail.kinimatorama.net/event/189854
DTSTAMP:20260425T180000Z
DESCRIPTION:περισσότερες πληροφορίες: https://mail.kinimatorama.net/event/1
 89854 
DTSTART:20260425T180000Z
DTEND:20260425T190000Z
GEO:+37.982824;+23.719686
LOCATION:Αθήνα\, \nΠλατεία Αυδή \nΛεωνιδίου & Γιατράκου \nΜεταξουργείο \n(Μ
 ΕΤΡΟ Μεταξουργείο\, \nΛεωφορεία 025\,026\,027\,813\,Α15\,Β15\,Β16\,Γ16)
SUMMARY:2ο Φεστιβάλ Ρεβάνς
URL:https://mail.kinimatorama.net/event/189854
END:VEVENT
END:VCALENDAR
