BEGIN:VCALENDAR
VERSION:2.0
PRODID:-//demosphere.net//NONSGML kigkonsult.se iCalcreator 2.22.1//
METHOD:REQUEST
X-WR-TIMEZONE:Europe/Athens
BEGIN:VEVENT
UID:https://mail.kinimatorama.net/event/189885
DTSTAMP:20260501T073000Z
DESCRIPTION:περισσότερες πληροφορίες: https://mail.kinimatorama.net/event/1
 89885 
DTSTART:20260501T073000Z
DTEND:20260501T083000Z
GEO:+37.980418;+23.733215
LOCATION:Αθήνα\, \nΠροπύλαια \n(Μετρό Πανεπιστήμιο)
SUMMARY:1η Μάη
URL:https://mail.kinimatorama.net/event/189885
END:VEVENT
END:VCALENDAR
