BEGIN:VCALENDAR
VERSION:2.0
PRODID:-//demosphere.net//NONSGML kigkonsult.se iCalcreator 2.22.1//
METHOD:REQUEST
X-WR-TIMEZONE:Europe/Athens
BEGIN:VEVENT
UID:https://mail.kinimatorama.net/event/189893
DTSTAMP:20260427T113000Z
DESCRIPTION:περισσότερες πληροφορίες: https://mail.kinimatorama.net/event/1
 89893 
DTSTART:20260427T113000Z
DTEND:20260427T123000Z
GEO:+38.010888;+23.666186
LOCATION:Αθήνα\, \nΣτρατηγού Καραϊσκάκη 138 & Επαύλεως\, Χαϊδάρι
SUMMARY:Εκτακτο - καλεσμα στο περιφερειακο συμβουλιο
URL:https://mail.kinimatorama.net/event/189893
END:VEVENT
END:VCALENDAR
