BEGIN:VCALENDAR
VERSION:2.0
PRODID:-//demosphere.net//NONSGML kigkonsult.se iCalcreator 2.22.1//
METHOD:REQUEST
X-WR-TIMEZONE:Europe/Athens
BEGIN:VEVENT
UID:https://mail.kinimatorama.net/event/189894
DTSTAMP:20260430T153000Z
DESCRIPTION:περισσότερες πληροφορίες: https://mail.kinimatorama.net/event/1
 89894 
DTSTART:20260430T153000Z
DTEND:20260430T163000Z
GEO:+38.011336;+23.735455
LOCATION:Αθήνα\, \nΓραφεία 5ης Δημοτικής κοινότητας Αθηνών
SUMMARY:Συγκέντρωση ενάντια στο πλιάτσικο του ΔΕΔΔΗΕ
URL:https://mail.kinimatorama.net/event/189894
END:VEVENT
END:VCALENDAR
