BEGIN:VCALENDAR
VERSION:2.0
PRODID:-//demosphere.net//NONSGML kigkonsult.se iCalcreator 2.22.1//
METHOD:REQUEST
X-WR-TIMEZONE:Europe/Athens
BEGIN:VEVENT
UID:https://mail.kinimatorama.net/event/19313
DTSTAMP:20120428T120000Z
DESCRIPTION:περισσότερες πληροφορίες: https://mail.kinimatorama.net/event/1
 9313 
DTSTART:20120428T120000Z
DTEND:20120428T130000Z
GEO:+37.975682;+23.734846
LOCATION:Αθήνα\, \nΠλατεία Συντάγματος (Σύνταγμα)
SUMMARY:Συνάντηση για την προετοιμασία Αγοράς Αθήνας 5-15 Μαίου
URL:https://mail.kinimatorama.net/event/19313
END:VEVENT
END:VCALENDAR
